BEGIN:VCALENDAR
VERSION:2.0
PRODID:-//Humania - ECPv4.2.7//NONSGML v1.0//EN
CALSCALE:GREGORIAN
METHOD:PUBLISH
X-WR-CALNAME:Humania
X-ORIGINAL-URL:http://humania.org
X-WR-CALDESC:Events for Humania
BEGIN:VEVENT
DTSTART;TZID=UTC+1:20160515T110000
DTEND;TZID=UTC+1:20160515T143000
DTSTAMP:20260423T001843
CREATED:20160511T113146
LAST-MODIFIED:20160511T113146
UID:94958-1463310000-1463322600@humania.org
SUMMARY:Rastrillo benéfico pro construcción refugio de animales abandonados de FELCAN
DESCRIPTION:El acto tendrá lugar el próximo domingo 15 de mayo junto al Gulliver\n\nLa asociación Felina y Canina\, FELCAN\, realizará\, el próximo domingo 15 de mayo\, un rastrillo benéfico en el Cauce del Río\, junto al Gulliver. El evento\, que tiene como objetivo recaudar fondos para la construcción de un nuevo refugio de animales abandonados\, se realizará a lo largo de la mañana\, concretamente entre las 11 y las 14.30 horas.\n\nVarios voluntarios de Felcan instalarán una carpa de venta de objetos de segunda mano y nuevos\, en las que se podrán adquirir bisutería\, libros\, juegos\, peluches y otra gran variedad de. Todo lo que se venda\, tendrá un precio simbólico que en la mayoría de los casos no sobrepasará los 5 euros.\n\nEn este acto\, los responsables de Felcan expondrán los planos del nuevo centro\, así como las fotos virtuales que se han realizado para simular como quedará el futuro albergue de animales abandonados de Felcan.\n\nComo en todas sus actividades\, Felcan aprovechará la ocasión dar a conocer los perros y gatos que tiene en adopción. Así como las diferentes formas de colaborar con la ONG\, pudiendo ser mediante la aportación económica (socio y padrino) o la aportación desinteresada del trabajo de los voluntarios o las casas de acogida.\n\nSon muchas las campañas que Felcan está organizando para conseguir fondos para la construcción del nuevo refugio de animales abandonados. Todas ellas se pueden ver en la web www.felcan.org así como consultar el proyecto y las licencias otorgadas. Para hacer donativos se ha habilitado la cuenta de la asociación en Caixa Popular ES89 3159 0040 78 2384209223\n\n \n\n 
URL:http://humania.org/evento/rastrillo-benefico-pro-construccion-refugio-animales-abandonados-felcan/
LOCATION:ardín del Turia\, s/n\, Valencia\, Valencia\, 46023\, España
GEO:39.4718636;-0.3651329
X-APPLE-STRUCTURED-LOCATION;VALUE=URI;X-ADDRESS=ardín del Turia s/n Valencia Valencia 46023 España;X-APPLE-RADIUS=500;X-TITLE=ardín del Turia\, s/n:geo:-0.3651329,39.4718636
CATEGORIES:Protección y Defensa de los Animales
END:VEVENT
END:VCALENDAR