BEGIN:VCALENDAR
VERSION:2.0
PRODID:-//Humania - ECPv4.2.7//NONSGML v1.0//EN
CALSCALE:GREGORIAN
METHOD:PUBLISH
X-WR-CALNAME:Humania
X-ORIGINAL-URL:http://humania.org
X-WR-CALDESC:Events for Humania
BEGIN:VEVENT
DTSTART;VALUE=DATE:20160317
DTEND;VALUE=DATE:20160317
DTSTAMP:20260415T000324
CREATED:20160307
LAST-MODIFIED:20160307
UID:93367-1458172800-1458259199@humania.org
SUMMARY:VOL+ reunirá en Madrid a empresas que desean impulsar el voluntariado
DESCRIPTION:\n\nLa Plataforma del Voluntariado (PVE) organiza el próximo 17 de marzo\, en Madrid una reunión informativa sobre VOL+ que tiene como objetivo captar empresas que estén promoviendo el voluntariado o deseen hacerlo. La PVE considera que\, en el desarrollo de este proyecto\, la colaboración con el sector empresarial es de vital importancia.\n\nLa reunión está dirigida a firmas que ya cuentan con departamentos de voluntariado corporativo\, que trabajan la RSE o  que estén interesadas en promover la tarea voluntaria. La intención es invitarlas a formar parte del proyecto a través de las diferentes vías de colaboración que se han ideado para dar participación a las empresas de este país.\n\nHay que recordar que la PVE puso en marcha el proyecto VOL+ en 2014\, con el propósito de reconocer las competencias que se adquieren al hacer voluntariado. Esta iniciativa cuenta con tres pilares fundamentales: personas voluntarias\, entidades sociales y también empresas que promueven el voluntariado entre sus plantillas.\n\nLa reunión se celebrará en el Campus Puerta de Toledo\, de la Universidad Carlos III.\n\nSi representas a una empresa y quieres acudir puedes inscribirte:   http://goo.gl/forms/L3jA76WL6a\n\n
URL:http://humania.org/evento/vol-reunira-madrid-empresas-desean-impulsar-voluntariado/
LOCATION:Ronda de Toledo 1\, Madrid\, Madrid\, 28005\, España
GEO:40.4069567;-3.7101598
X-APPLE-STRUCTURED-LOCATION;VALUE=URI;X-ADDRESS=Ronda de Toledo 1 Madrid Madrid 28005 España;X-APPLE-RADIUS=500;X-TITLE=Ronda de Toledo 1:geo:-3.7101598,40.4069567
CATEGORIES:Empresa Solidaria,Voluntariado Social
ATTACH;FMTTYPE=image/jpeg:http://humania.org/wp-content/uploads/2016/03/humania-cartel-vol-plataforma-voluntariado.jpg
END:VEVENT
END:VCALENDAR