BEGIN:VCALENDAR
VERSION:2.0
PRODID:-//Humania - ECPv4.2.7//NONSGML v1.0//EN
CALSCALE:GREGORIAN
METHOD:PUBLISH
X-WR-CALNAME:Humania
X-ORIGINAL-URL:http://humania.org
X-WR-CALDESC:Events for Humania
BEGIN:VEVENT
DTSTART;TZID=UTC+1:20160515T120000
DTEND;TZID=UTC+1:20160515T210000
DTSTAMP:20260423T001910
CREATED:20160512T095318
LAST-MODIFIED:20160512T095916
UID:94988-1463313600-1463346000@humania.org
SUMMARY:Yzaguirre estará presente en el vermut solidario a favor de los refugiados
DESCRIPTION:\n\n\n\n• La prestigiosa marca formará parte del Vermut Solidario a favor de ACCEM\, organización que proporciona atención y acogida a las personas refugiadas e inmigrantes.\nLa prestigiosa marca Yzaguirre Vermouth sigue consolidando su apuesta por las iniciativas sociales; en esta ocasión\, la firma participará una vez más\, en el proyecto del Vermut Solidario\, esta vez los fondos irán destinados a la organización ACCEM dedicada a mejorar las condiciones de vida de quienes se encuentran en situación más vulnerable en nuestra sociedad y especialmente\, de las personas refugiadas\, inmigrantes y personas en situación o riesgo de exclusión social.\n\nEl apoyo de Yzaguirre tendrá lugar el próximo domingo 15 de mayo con una nueva aportación al Vermut Solidario\, un evento festivo que se celebrará en la Antiga Fàbrica d’Estrella Damm de Barcelona\, en el que centenares de personas se sumarán a la fiesta solidaria y podrán disfrutar del reconocido vermut.\n\nEl Vermut Solidario tendrá lugar entre las 12h y las 21h\, nueve horas non- stop de la mejor música\, zona de picnic\, un shopping córner de marcas handmade\, talleres\, exposiciones\, actividades para los más grandes y para los más pequeños y mucho más.\n\nCon presencia en este evento solidario\, Yzaguirre se convierte en el maridaje ideal para las propuestas gastronómicas que se ofrecen en el evento\, 15 foodtrucks con opciones veganas\, gluten-free\, saludables\, exóticas\, tradicionales... todas estarán disponibles para que sea cuál sea tu foodie-adicción puedas disfrutarlo.\n\nSobre ACCEM\n\nEl objetivo de esta nueva edición del Vermut Solidario es la recaudación de fondos para ACCEM\, organización no gubernamental y no lucrativa que proporciona atención y acogida a las personas refugiadas e inmigrantes. En un momento como el que vivimos\, con una crisis humanitaria que no acaba de resolverse y con la necesidad de dar protección a miles de personas que lo necesitan\, la experiencia de ACCEM en el ámbito del asilo y refugio es valiosa.\n\n\n\n\n\n\n\n\n\n\nSobre Yzaguirre Vermouth\n\nDesde su fundación\, en 1884\, Yzaguirre Vermouth ha elaborado sus productos siguiendo los métodos tradicionales y las fórmulas exclusivas\, que son el secreto de su aroma y sabor\, al mismo tiempo que ha innovado y actualizado aquellos procesos que nos hablan de alta calidad de sus productos. Esta apuesta por la calidad le ha permitido la actual expansión comercial en el mercado español y en otros 35 países de Europa\, Asia\, América y África.\n\n\n\n\n
URL:http://humania.org/evento/yzaguirre-estara-presente-vermut-solidario-favor-los-refugiados/
LOCATION:Carrer del Rosselló\, 515\, Barcel\, Barcelona\, 08025\, España
GEO:41.4090519;2.1780787
X-APPLE-STRUCTURED-LOCATION;VALUE=URI;X-ADDRESS=Carrer del Rosselló 515 Barcel Barcelona 08025 España;X-APPLE-RADIUS=500;X-TITLE=Carrer del Rosselló\, 515:geo:2.1780787,41.4090519
CATEGORIES:Empresa Solidaria,Inmigración/Codesarrollo
END:VEVENT
END:VCALENDAR